Workbook

Sheet Instrucciones
A1: INSTRUCCIONES DE USO PARA LA CORRECTA UTILIZACIÓN DEL EXCEL
A3: Con el objetivo de facilitar la transmisión de datos de las empresas que realicen muestreos externos a la Sección de Pesca y Acuicultura y la adecuación de estos a nuestras hojas de cálculo para su gestión, se ha creado este excel y cuyas instrucciones se detallarán en esta misma hoja:
A4: - | B4: Los datos se rellenarán en la hoja "Para rellenar - ExclMUESTREOS". Consultar detalles más abajo.
A5: - | B5: De forma automática, se autorrellenará la hoja "IND. PISCÍCOLA (autorrellenable)", por lo que no será necesario hacer nada con esta hoja
A6: - | B6: Ante cualquier duda, consultar con el personal de la Sección de Pesca
A9: Detalles de la hoja "Para rellenar - IND. PISCÍCOLA".
A11: Salvo que se especifique lo contrario, escribir "Tipo oración"; por ejemplo, en el término municipal conviene escribir "Oliva de la Frontera" y no "OLIVA DE LA FRONTERA".
A13: ID MUESTREO | B13: FECHA_DE_M | C13: Año | D13: Tipo masa de agua | E13: Masa_de_agua | F13: CUENCA | G13: HUSO | H13: X_CORREG | I13: Y_CORREG | J13: Provincia | K13: Estación antigua (no rellenar) | L13: ESTACIÓN | M13: NO HAY PECES | N13: BOGA | O13: CACHO | P13: CALANDINO | Q13: PARDILLA | R13: BARBO CABECICORTO | S13: BARBO COMIZO | T13: BARBO COMÚN | U13: BARBO GITANO | V13: BARBO SP (indef) | W13: JARABUGO | X13: COLMILLEJA | Y13: COLMILLEJA ALAGÓN | Z13: FRAILE | AA13: TRUCHA COMÚN | AB13: ANGUILA | AC13: SÁBALO | AD13: TENCA | AE13: PEJERREY | AF13: ESPINOSO | AG13: ESTURIÓN | AH13: LAMPREA RÍO | AI13: LAMPREA MARINA | AJ13: CARPA | AK13: CARPÍN | AL13: ALBURNO | AM13: BLACK BASS | AN13: GAMBUSIA | AO13: GOBIO | AP13: LUCIO | AQ13: LUCIOPERCA | AR13: PERCASOL | AS13: PEZ GATO | AT13: PEZ GATO PUNTEADO | AU13: SILURO | AV13: PSEUDORASBORA | AW13: TRUCHA ARCOIRIRS | AX13: CHANCHITO | AY13: DATOS | AZ13: Muestreadores | BA13: LOCALIZACIÓN | BB13: Agentes | BC13: Termino_Mu | BD13: Camarón | BE13: Cangrejo rojo | BF13: Cangrejo señal | BG13: Observaciones gabinete
A14: No rellenar. A rellenar por la Sección de Pesca y Acuicultura. | B14: Fecha de la realización del muestreo. A ser posible, asegurarse de que las celdas de esta columna tienen el formato "FECHA" (_ _/ _ _ / _ _ _ _). Ej: 10/05/2023 | C14: Anotar solo el año: "2023";"2024";"2025"… | D14: Rellenar con "Río"; "Arroyo", "Rivera", "Garganta" "Charca"… | E14: Conviene poner el nombre principal y seguidamente incorporar los artículos (de, del, de la, de los…) para sistematizar mejor las búsquedas. Ej: escribir "Huerto (de los)" y no "de los Huertos" | F14: Centrarse en las cuencas grandes: "Guadiana"; "Tajo"; "Guadalquivir" y "Duero". Si se quiere especificar una subcuenca, hacerlo como en el siguiente ejemplo: "Guadiana - Zújar" | G14: Anotar únicamente el nº 30 (se deberán transformar las coord. de huso 29 a las de huso 30). No emplear la letra "H". Es decir, "H30" o "29" no serían correctos, pero "30" sí. | H14: Solo en huso 30. Si se cogieran en huso 29 se deberán transformar. | I14: Solo en huso 30. Si se cogieran en huso 29 se deberá transformar. | J14: "Cáceres" o "Badajoz" | K14: A rellenar por la Sección de Pesca y Acuicultura si fuera necesario | L14: Solicitar previamente, si no se hubiera facilitado con anterioridad, la nomenclatura de las estaciones ya establecidas por la Sección. | AY14: Nombre de la empresa que ha realizado el muestreo. | AZ14: Relación de personas que han participado en el muestreo | BA14: Añadir una pequeña descripción de la localización para facilitar su localización en el caso de error o que se genere duda con la estación o las coordenadas. | BC14: Anotar el término municipal donde se encuentre el huso. | BG14: Añadir cualquier observación que pueda resultar de interés.
B18: TABLA DE ABUNDANCIAS RELATIVAS:
A19: ¡OJO! Si el muestreo es de 100 o 200m debe tenerse en cuenta | B19: Ejemplares en 50m | C19: ABUNDANCIA RELATIVA
B20: 1 | C20: Presencia (+)
B21: De 2 a 10 | C21: Raro (1)
B22: De 11 a 31 | C22: Común (2)
B23: De 31 a 100 | C23: Abundante (3)
B24: + de 100 | C24: Muy abundante (4)

Sheet Para rellenar - ExclMUESTREOS
A1: ID MUESTREO | B1: FECHA_DE_M | C1: Año | D1: Tipo masa de agua | E1: Masa_de_agua | F1: CUENCA (Guadiana, Tajo, Duero o Guadalquivir) | G1: HUSO | H1: X_CORREG | I1: Y_CORREG | J1: Provincia | K1: Estación Antigua (no rellenar) | L1: ESTACIÓN | M1: NO HAY PECES | N1: BOGA | O1: CACHO | P1: CALANDINO | Q1: PARDILLA | R1: BARBO CABECICORTO | S1: BARBO COMIZO | T1: BARBO COMÚN | U1: BARBO GITANO | V1: BARBO SP (indef) | W1: JARABUGO | X1: COLMILLEJA | Y1: COLMILLEJA ALAGÓN | Z1: FRAILE | AA1: TRUCHA COMÚN | AB1: ANGUILA | AC1: SÁBALO | AD1: TENCA | AE1: PEJERREY | AF1: ESPINOSO | AG1: ESTURIÓN | AH1: LAMPREA RÍO | AI1: LAMPREA MARINA | AJ1: CARPA | AK1: CARPÍN | AL1: ALBURNO | AM1: BLACK BASS | AN1: GAMBUSIA | AO1: GOBIO | AP1: LUCIO | AQ1: LUCIOPERCA | AR1: PERCASOL | AS1: PEZ GATO | AT1: PEZ GATO PUNTEADO | AU1: SILURO | AV1: PSEUDORASBORA | AW1: TRUCHA ARCOIRIRS | AX1: CHANCHITO | AY1: DATOS | AZ1: Muestreadores | BA1: LOCALIZACIÓN | BB1: Agentes | BC1: Termino_Mu | BD1: Camarón | BE1: Cangrejo rojo | BF1: Cangrejo señal | BG1: Observaciones gabinete
A2: EJEMPLO | B2: 45393 | C2: 2024 | D2: Río | E2: Alcarrache | F2: Guadiana | G2: 30 | H2: 165942 | I2: 4263506 | J2: Badajoz | L2: ACH0 | U2: 2 | AY2: Externos (ICTIOS) Serv 23-25 | AZ2: Rafa y Pedro | BA2: BADÉN DE TUBOS EN PISTA CORDEL CAMINO DE HIGUERA DE VARGAS A SALVALEÓN. | BB2: - | BC2: Barcarrota | BG2: SE MUESTREA 100 METROS AGUAS ARRIBA DEL PUNTO ORIGINAL JUNTO AL BADÉN. BARBOS COMIZOS Y GITANOS EN REMONTE REPRODUCTIVO.

Sheet IND. PISCÍCOL (autorrellenable)
A1: ID_Muestreo (NO RELLENAR) | B1: MASA_DE_AGUA | C1: RIO | D1: ESTACION | E1: FECHA_DE_M | F1: LOCALIZACI | G1: CUENCA | H1: TERMINO_MUNICIPAL | I1: PROVINCIA | J1: COORDENADA_Huso | K1: UTM_X | L1: UTM_Y | M1: AÑO | N1: ANGUILA | O1: SABALO | P1: SUMA_MARI | Q1: PROTE_MARI | R1: LAMBREARIO | S1: FRAILE | T1: COLMILLEJA | U1: COLMI_ALAG | V1: JARABUGO | W1: CACHO | X1: ESPINOSO | Y1: SUM_AUTO_P | Z1: AUTO_PROTE | AA1: TRUCHA | AB1: TENCA | AC1: PARDILLA | AD1: BOGA_COMUN | AE1: BARBO_COM_ | AF1: BARBO_CABE | AG1: BARBO_COMI | AH1: BARBO_GITA | AI1: BARBO_INDE | AJ1: CALANDINO | AK1: SUM_AUTOC | AL1: AUTOCTONAS | AM1: SILURO | AN1: LUCIOPERCA | AO1: PERCASOL | AP1: PEZ_GATO | AQ1: PEZ_GATO_P | AR1: ALBURNO | AS1: CARPA | AT1: CARPIN | AU1: TRUCHA_ARC | AV1: BLACK_BASS | AW1: LUCIO | AX1: PSEUDORABO | AY1: SUM_EXOT | AZ1: EXOTICAS | BA1: GOBIO | BB1: GAMBUSIA | BC1: SUM_NO_IN | BD1: NO_INFLUYE
A2: ='Para rellenar - ExclMUESTREOS'!A2 -> EJEMPLO | B2: ='Para rellenar - ExclMUESTREOS'!D2 -> Río | C2: ='Para rellenar - ExclMUESTREOS'!E2 -> Alcarrache | D2: ='Para rellenar - ExclMUESTREOS'!L2 -> ACH0 | E2: ='Para rellenar - ExclMUESTREOS'!B2 -> 45393 | F2: ='Para rellenar - ExclMUESTREOS'!BA2 -> BADÉN DE TUBOS EN PISTA CORDEL CAMINO DE HIGUERA DE VARGAS A SALVALEÓN. | G2: ='Para rellenar - ExclMUESTREOS'!F2 -> Guadiana | H2: ='Para rellenar - ExclMUESTREOS'!BC2 -> Barcarrota | I2: ='Para rellenar - ExclMUESTREOS'!J2 -> Badajoz | J2: ='Para rellenar - ExclMUESTREOS'!G2 -> 30 | K2: ='Para rellenar - ExclMUESTREOS'!H2 -> 165942 | L2: ='Para rellenar - ExclMUESTREOS'!I2 -> 4263506 | M2: ='Para rellenar - ExclMUESTREOS'!C2 -> 2024 | N2: ='Para rellenar - ExclMUESTREOS'!AB2 -> 0 | O2: ='Para rellenar - ExclMUESTREOS'!AC2 -> 0 | R2: ='Para rellenar - ExclMUESTREOS'!AH2 -> 0 | S2: ='Para rellenar - ExclMUESTREOS'!Z2 -> 0 | T2: ='Para rellenar - ExclMUESTREOS'!X2 -> 0 | U2: ='Para rellenar - ExclMUESTREOS'!Y2 -> 0 | V2: ='Para rellenar - ExclMUESTREOS'!W2 -> 0 | W2: ='Para rellenar - ExclMUESTREOS'!O2 -> 0 | X2: ='Para rellenar - ExclMUESTREOS'!AF2 -> 0 | AA2: ='Para rellenar - ExclMUESTREOS'!AA2 -> 0 | AB2: ='Para rellenar - ExclMUESTREOS'!AD2 -> 0 | AC2: ='Para rellenar - ExclMUESTREOS'!Q2 -> 0 | AD2: ='Para rellenar - ExclMUESTREOS'!N2 -> 0 | AE2: ='Para rellenar - ExclMUESTREOS'!T2 -> 0 | AF2: ='Para rellenar - ExclMUESTREOS'!R2 -> 0 | AG2: ='Para rellenar - ExclMUESTREOS'!S2 -> 0 | AH2: ='Para rellenar - ExclMUESTREOS'!U2 -> 2 | AI2: ='Para rellenar - ExclMUESTREOS'!V2 -> 0 | AJ2: ='Para rellenar - ExclMUESTREOS'!P2 -> 0 | AM2: ='Para rellenar - ExclMUESTREOS'!AU2 -> 0 | AN2: ='Para rellenar - ExclMUESTREOS'!AQ2 -> 0 | AO2: ='Para rellenar - ExclMUESTREOS'!AR2 -> 0 | AP2: ='Para rellenar - ExclMUESTREOS'!AS2 -> 0 | AQ2: ='Para rellenar - ExclMUESTREOS'!AT2 -> 0 | AR2: ='Para rellenar - ExclMUESTREOS'!AL2 -> 0 | AS2: ='Para rellenar - ExclMUESTREOS'!AJ2 -> 0 | AT2: ='Para rellenar - ExclMUESTREOS'!AK2 -> 0 | AU2: ='Para rellenar - ExclMUESTREOS'!AW2 -> 0 | AV2: ='Para rellenar - ExclMUESTREOS'!AM2 -> 0 | AW2: ='Para rellenar - ExclMUESTREOS'!AP2 -> 0 | AX2: ='Para rellenar - ExclMUESTREOS'!AV2 -> 0 | BA2: ='Para rellenar - ExclMUESTREOS'!AO2 -> 0 | BB2: ='Para rellenar - ExclMUESTREOS'!AN2 -> 0
A3: ='Para rellenar - ExclMUESTREOS'!A3 -> 0 | B3: ='Para rellenar - ExclMUESTREOS'!D3 -> 0 | C3: ='Para rellenar - ExclMUESTREOS'!E3 -> 0 | D3: ='Para rellenar - ExclMUESTREOS'!L3 -> 0 | E3: ='Para rellenar - ExclMUESTREOS'!B3 -> 0 | F3: ='Para rellenar - ExclMUESTREOS'!BA3 -> 0 | G3: ='Para rellenar - ExclMUESTREOS'!F3 -> 0 | H3: ='Para rellenar - ExclMUESTREOS'!BC3 -> 0 | I3: ='Para rellenar - ExclMUESTREOS'!J3 -> 0 | J3: ='Para rellenar - ExclMUESTREOS'!G3 -> 0 | K3: ='Para rellenar - ExclMUESTREOS'!H3 -> 0 | L3: ='Para rellenar - ExclMUESTREOS'!I3 -> 0 | M3: ='Para rellenar - ExclMUESTREOS'!C3 -> 0 | N3: ='Para rellenar - ExclMUESTREOS'!AB3 -> 0 | O3: ='Para rellenar - ExclMUESTREOS'!AC3 -> 0 | R3: ='Para rellenar - ExclMUESTREOS'!AH3 -> 0 | S3: ='Para rellenar - ExclMUESTREOS'!Z3 -> 0 | T3: ='Para rellenar - ExclMUESTREOS'!X3 -> 0 | U3: ='Para rellenar - ExclMUESTREOS'!Y3 -> 0 | V3: ='Para rellenar - ExclMUESTREOS'!W3 -> 0 | W3: ='Para rellenar - ExclMUESTREOS'!O3 -> 0 | X3: ='Para rellenar - ExclMUESTREOS'!AF3 -> 0 | AA3: ='Para rellenar - ExclMUESTREOS'!AA3 -> 0 | AB3: ='Para rellenar - ExclMUESTREOS'!AD3 -> 0 | AC3: ='Para rellenar - ExclMUESTREOS'!Q3 -> 0 | AD3: ='Para rellenar - ExclMUESTREOS'!N3 -> 0 | AE3: ='Para rellenar - ExclMUESTREOS'!T3 -> 0 | AF3: ='Para rellenar - ExclMUESTREOS'!R3 -> 0 | AG3: ='Para rellenar - ExclMUESTREOS'!S3 -> 0 | AH3: ='Para rellenar - ExclMUESTREOS'!U3 -> 0 | AI3: ='Para rellenar - ExclMUESTREOS'!V3 -> 0 | AJ3: ='Para rellenar - ExclMUESTREOS'!P3 -> 0 | AM3: ='Para rellenar - ExclMUESTREOS'!AU3 -> 0 | AN3: ='Para rellenar - ExclMUESTREOS'!AQ3 -> 0 | AO3: ='Para rellenar - ExclMUESTREOS'!AR3 -> 0 | AP3: ='Para rellenar - ExclMUESTREOS'!AS3 -> 0 | AQ3: ='Para rellenar - ExclMUESTREOS'!AT3 -> 0 | AR3: ='Para rellenar - ExclMUESTREOS'!AL3 -> 0 | AS3: ='Para rellenar - ExclMUESTREOS'!AJ3 -> 0 | AT3: ='Para rellenar - ExclMUESTREOS'!AK3 -> 0 | AU3: ='Para rellenar - ExclMUESTREOS'!AW3 -> 0 | AV3: ='Para rellenar - ExclMUESTREOS'!AM3 -> 0 | AW3: ='Para rellenar - ExclMUESTREOS'!AP3 -> 0 | AX3: ='Para rellenar - ExclMUESTREOS'!AV3 -> 0 | BA3: ='Para rellenar - ExclMUESTREOS'!AO3 -> 0 | BB3: ='Para rellenar - ExclMUESTREOS'!AN3 -> 0
A4: ='Para rellenar - ExclMUESTREOS'!A4 -> 0 | B4: ='Para rellenar - ExclMUESTREOS'!D4 -> 0 | C4: ='Para rellenar - ExclMUESTREOS'!E4 -> 0 | D4: ='Para rellenar - ExclMUESTREOS'!L4 -> 0 | E4: ='Para rellenar - ExclMUESTREOS'!B4 -> 0 | F4: ='Para rellenar - ExclMUESTREOS'!BA4 -> 0 | G4: ='Para rellenar - ExclMUESTREOS'!F4 -> 0 | H4: ='Para rellenar - ExclMUESTREOS'!BC4 -> 0 | I4: ='Para rellenar - ExclMUESTREOS'!J4 -> 0 | J4: ='Para rellenar - ExclMUESTREOS'!G4 -> 0 | K4: ='Para rellenar - ExclMUESTREOS'!H4 -> 0 | L4: ='Para rellenar - ExclMUESTREOS'!I4 -> 0 | M4: ='Para rellenar - ExclMUESTREOS'!C4 -> 0 | N4: ='Para rellenar - ExclMUESTREOS'!AB4 -> 0 | O4: ='Para rellenar - ExclMUESTREOS'!AC4 -> 0 | R4: ='Para rellenar - ExclMUESTREOS'!AH4 -> 0 | S4: ='Para rellenar - ExclMUESTREOS'!Z4 -> 0 | T4: ='Para rellenar - ExclMUESTREOS'!X4 -> 0 | U4: ='Para rellenar - ExclMUESTREOS'!Y4 -> 0 | V4: ='Para rellenar - ExclMUESTREOS'!W4 -> 0 | W4: ='Para rellenar - ExclMUESTREOS'!O4 -> 0 | X4: ='Para rellenar - ExclMUESTREOS'!AF4 -> 0 | AA4: ='Para rellenar - ExclMUESTREOS'!AA4 -> 0 | AB4: ='Para rellenar - ExclMUESTREOS'!AD4 -> 0 | AC4: ='Para rellenar - ExclMUESTREOS'!Q4 -> 0 | AD4: ='Para rellenar - ExclMUESTREOS'!N4 -> 0 | AE4: ='Para rellenar - ExclMUESTREOS'!T4 -> 0 | AF4: ='Para rellenar - ExclMUESTREOS'!R4 -> 0 | AG4: ='Para rellenar - ExclMUESTREOS'!S4 -> 0 | AH4: ='Para rellenar - ExclMUESTREOS'!U4 -> 0 | AI4: ='Para rellenar - ExclMUESTREOS'!V4 -> 0 | AJ4: ='Para rellenar - ExclMUESTREOS'!P4 -> 0 | AM4: ='Para rellenar - ExclMUESTREOS'!AU4 -> 0 | AN4: ='Para rellenar - ExclMUESTREOS'!AQ4 -> 0 | AO4: ='Para rellenar - ExclMUESTREOS'!AR4 -> 0 | AP4: ='Para rellenar - ExclMUESTREOS'!AS4 -> 0 | AQ4: ='Para rellenar - ExclMUESTREOS'!AT4 -> 0 | AR4: ='Para rellenar - ExclMUESTREOS'!AL4 -> 0 | AS4: ='Para rellenar - ExclMUESTREOS'!AJ4 -> 0 | AT4: ='Para rellenar - ExclMUESTREOS'!AK4 -> 0 | AU4: ='Para rellenar - ExclMUESTREOS'!AW4 -> 0 | AV4: ='Para rellenar - ExclMUESTREOS'!AM4 -> 0 | AW4: ='Para rellenar - ExclMUESTREOS'!AP4 -> 0 | AX4: ='Para rellenar - ExclMUESTREOS'!AV4 -> 0 | BA4: ='Para rellenar - ExclMUESTREOS'!AO4 -> 0 | BB4: ='Para rellenar - ExclMUESTREOS'!AN4 -> 0
A5: ='Para rellenar - ExclMUESTREOS'!A5 -> 0 | B5: ='Para rellenar - ExclMUESTREOS'!D5 -> 0 | C5: ='Para rellenar - ExclMUESTREOS'!E5 -> 0 | D5: ='Para rellenar - ExclMUESTREOS'!L5 -> 0 | E5: ='Para rellenar - ExclMUESTREOS'!B5 -> 0 | F5: ='Para rellenar - ExclMUESTREOS'!BA5 -> 0 | G5: ='Para rellenar - ExclMUESTREOS'!F5 -> 0 | H5: ='Para rellenar - ExclMUESTREOS'!BC5 -> 0 | I5: ='Para rellenar - ExclMUESTREOS'!J5 -> 0 | J5: ='Para rellenar - ExclMUESTREOS'!G5 -> 0 | K5: ='Para rellenar - ExclMUESTREOS'!H5 -> 0 | L5: ='Para rellenar - ExclMUESTREOS'!I5 -> 0 | M5: ='Para rellenar - ExclMUESTREOS'!C5 -> 0 | N5: ='Para rellenar - ExclMUESTREOS'!AB5 -> 0 | O5: ='Para rellenar - ExclMUESTREOS'!AC5 -> 0 | R5: ='Para rellenar - ExclMUESTREOS'!AH5 -> 0 | S5: ='Para rellenar - ExclMUESTREOS'!Z5 -> 0 | T5: ='Para rellenar - ExclMUESTREOS'!X5 -> 0 | U5: ='Para rellenar - ExclMUESTREOS'!Y5 -> 0 | V5: ='Para rellenar - ExclMUESTREOS'!W5 -> 0 | W5: ='Para rellenar - ExclMUESTREOS'!O5 -> 0 | X5: ='Para rellenar - ExclMUESTREOS'!AF5 -> 0 | AA5: ='Para rellenar - ExclMUESTREOS'!AA5 -> 0 | AB5: ='Para rellenar - ExclMUESTREOS'!AD5 -> 0 | AC5: ='Para rellenar - ExclMUESTREOS'!Q5 -> 0 | AD5: ='Para rellenar - ExclMUESTREOS'!N5 -> 0 | AE5: ='Para rellenar - ExclMUESTREOS'!T5 -> 0 | AF5: ='Para rellenar - ExclMUESTREOS'!R5 -> 0 | AG5: ='Para rellenar - ExclMUESTREOS'!S5 -> 0 | AH5: ='Para rellenar - ExclMUESTREOS'!U5 -> 0 | AI5: ='Para rellenar - ExclMUESTREOS'!V5 -> 0 | AJ5: ='Para rellenar - ExclMUESTREOS'!P5 -> 0 | AM5: ='Para rellenar - ExclMUESTREOS'!AU5 -> 0 | AN5: ='Para rellenar - ExclMUESTREOS'!AQ5 -> 0 | AO5: ='Para rellenar - ExclMUESTREOS'!AR5 -> 0 | AP5: ='Para rellenar - ExclMUESTREOS'!AS5 -> 0 | AQ5: ='Para rellenar - ExclMUESTREOS'!AT5 -> 0 | AR5: ='Para rellenar - ExclMUESTREOS'!AL5 -> 0 | AS5: ='Para rellenar - ExclMUESTREOS'!AJ5 -> 0 | AT5: ='Para rellenar - ExclMUESTREOS'!AK5 -> 0 | AU5: ='Para rellenar - ExclMUESTREOS'!AW5 -> 0 | AV5: ='Para rellenar - ExclMUESTREOS'!AM5 -> 0 | AW5: ='Para rellenar - ExclMUESTREOS'!AP5 -> 0 | AX5: ='Para rellenar - ExclMUESTREOS'!AV5 -> 0 | BA5: ='Para rellenar - ExclMUESTREOS'!AO5 -> 0 | BB5: ='Para rellenar - ExclMUESTREOS'!AN5 -> 0
A6: ='Para rellenar - ExclMUESTREOS'!A6 -> 0 | B6: ='Para rellenar - ExclMUESTREOS'!D6 -> 0 | C6: ='Para rellenar - ExclMUESTREOS'!E6 -> 0 | D6: ='Para rellenar - ExclMUESTREOS'!L6 -> 0 | E6: ='Para rellenar - ExclMUESTREOS'!B6 -> 0 | F6: ='Para rellenar - ExclMUESTREOS'!BA6 -> 0 | G6: ='Para rellenar - ExclMUESTREOS'!F6 -> 0 | H6: ='Para rellenar - ExclMUESTREOS'!BC6 -> 0 | I6: ='Para rellenar - ExclMUESTREOS'!J6 -> 0 | J6: ='Para rellenar - ExclMUESTREOS'!G6 -> 0 | K6: ='Para rellenar - ExclMUESTREOS'!H6 -> 0 | L6: ='Para rellenar - ExclMUESTREOS'!I6 -> 0 | M6: ='Para rellenar - ExclMUESTREOS'!C6 -> 0 | N6: ='Para rellenar - ExclMUESTREOS'!AB6 -> 0 | O6: ='Para rellenar - ExclMUESTREOS'!AC6 -> 0 | R6: ='Para rellenar - ExclMUESTREOS'!AH6 -> 0 | S6: ='Para rellenar - ExclMUESTREOS'!Z6 -> 0 | T6: ='Para rellenar - ExclMUESTREOS'!X6 -> 0 | U6: ='Para rellenar - ExclMUESTREOS'!Y6 -> 0 | V6: ='Para rellenar - ExclMUESTREOS'!W6 -> 0 | W6: ='Para rellenar - ExclMUESTREOS'!O6 -> 0 | X6: ='Para rellenar - ExclMUESTREOS'!AF6 -> 0 | AA6: ='Para rellenar - ExclMUESTREOS'!AA6 -> 0 | AB6: ='Para rellenar - ExclMUESTREOS'!AD6 -> 0 | AC6: ='Para rellenar - ExclMUESTREOS'!Q6 -> 0 | AD6: ='Para rellenar - ExclMUESTREOS'!N6 -> 0 | AE6: ='Para rellenar - ExclMUESTREOS'!T6 -> 0 | AF6: ='Para rellenar - ExclMUESTREOS'!R6 -> 0 | AG6: ='Para rellenar - ExclMUESTREOS'!S6 -> 0 | AH6: ='Para rellenar - ExclMUESTREOS'!U6 -> 0 | AI6: ='Para rellenar - ExclMUESTREOS'!V6 -> 0 | AJ6: ='Para rellenar - ExclMUESTREOS'!P6 -> 0 | AM6: ='Para rellenar - ExclMUESTREOS'!AU6 -> 0 | AN6: ='Para rellenar - ExclMUESTREOS'!AQ6 -> 0 | AO6: ='Para rellenar - ExclMUESTREOS'!AR6 -> 0 | AP6: ='Para rellenar - ExclMUESTREOS'!AS6 -> 0 | AQ6: ='Para rellenar - ExclMUESTREOS'!AT6 -> 0 | AR6: ='Para rellenar - ExclMUESTREOS'!AL6 -> 0 | AS6: ='Para rellenar - ExclMUESTREOS'!AJ6 -> 0 | AT6: ='Para rellenar - ExclMUESTREOS'!AK6 -> 0 | AU6: ='Para rellenar - ExclMUESTREOS'!AW6 -> 0 | AV6: ='Para rellenar - ExclMUESTREOS'!AM6 -> 0 | AW6: ='Para rellenar - ExclMUESTREOS'!AP6 -> 0 | AX6: ='Para rellenar - ExclMUESTREOS'!AV6 -> 0 | BA6: ='Para rellenar - ExclMUESTREOS'!AO6 -> 0 | BB6: ='Para rellenar - ExclMUESTREOS'!AN6 -> 0
A7: ='Para rellenar - ExclMUESTREOS'!A7 -> 0 | B7: ='Para rellenar - ExclMUESTREOS'!D7 -> 0 | C7: ='Para rellenar - ExclMUESTREOS'!E7 -> 0 | D7: ='Para rellenar - ExclMUESTREOS'!L7 -> 0 | E7: ='Para rellenar - ExclMUESTREOS'!B7 -> 0 | F7: ='Para rellenar - ExclMUESTREOS'!BA7 -> 0 | G7: ='Para rellenar - ExclMUESTREOS'!F7 -> 0 | H7: ='Para rellenar - ExclMUESTREOS'!BC7 -> 0 | I7: ='Para rellenar - ExclMUESTREOS'!J7 -> 0 | J7: ='Para rellenar - ExclMUESTREOS'!G7 -> 0 | K7: ='Para rellenar - ExclMUESTREOS'!H7 -> 0 | L7: ='Para rellenar - ExclMUESTREOS'!I7 -> 0 | M7: ='Para rellenar - ExclMUESTREOS'!C7 -> 0 | N7: ='Para rellenar - ExclMUESTREOS'!AB7 -> 0 | O7: ='Para rellenar - ExclMUESTREOS'!AC7 -> 0 | R7: ='Para rellenar - ExclMUESTREOS'!AH7 -> 0 | S7: ='Para rellenar - ExclMUESTREOS'!Z7 -> 0 | T7: ='Para rellenar - ExclMUESTREOS'!X7 -> 0 | U7: ='Para rellenar - ExclMUESTREOS'!Y7 -> 0 | V7: ='Para rellenar - ExclMUESTREOS'!W7 -> 0 | W7: ='Para rellenar - ExclMUESTREOS'!O7 -> 0 | X7: ='Para rellenar - ExclMUESTREOS'!AF7 -> 0 | AA7: ='Para rellenar - ExclMUESTREOS'!AA7 -> 0 | AB7: ='Para rellenar - ExclMUESTREOS'!AD7 -> 0 | AC7: ='Para rellenar - ExclMUESTREOS'!Q7 -> 0 | AD7: ='Para rellenar - ExclMUESTREOS'!N7 -> 0 | AE7: ='Para rellenar - ExclMUESTREOS'!T7 -> 0 | AF7: ='Para rellenar - ExclMUESTREOS'!R7 -> 0 | AG7: ='Para rellenar - ExclMUESTREOS'!S7 -> 0 | AH7: ='Para rellenar - ExclMUESTREOS'!U7 -> 0 | AI7: ='Para rellenar - ExclMUESTREOS'!V7 -> 0 | AJ7: ='Para rellenar - ExclMUESTREOS'!P7 -> 0 | AM7: ='Para rellenar - ExclMUESTREOS'!AU7 -> 0 | AN7: ='Para rellenar - ExclMUESTREOS'!AQ7 -> 0 | AO7: ='Para rellenar - ExclMUESTREOS'!AR7 -> 0 | AP7: ='Para rellenar - ExclMUESTREOS'!AS7 -> 0 | AQ7: ='Para rellenar - ExclMUESTREOS'!AT7 -> 0 | AR7: ='Para rellenar - ExclMUESTREOS'!AL7 -> 0 | AS7: ='Para rellenar - ExclMUESTREOS'!AJ7 -> 0 | AT7: ='Para rellenar - ExclMUESTREOS'!AK7 -> 0 | AU7: ='Para rellenar - ExclMUESTREOS'!AW7 -> 0 | AV7: ='Para rellenar - ExclMUESTREOS'!AM7 -> 0 | AW7: ='Para rellenar - ExclMUESTREOS'!AP7 -> 0 | AX7: ='Para rellenar - ExclMUESTREOS'!AV7 -> 0 | BA7: ='Para rellenar - ExclMUESTREOS'!AO7 -> 0 | BB7: ='Para rellenar - ExclMUESTREOS'!AN7 -> 0
A8: ='Para rellenar - ExclMUESTREOS'!A8 -> 0 | B8: ='Para rellenar - ExclMUESTREOS'!D8 -> 0 | C8: ='Para rellenar - ExclMUESTREOS'!E8 -> 0 | D8: ='Para rellenar - ExclMUESTREOS'!L8 -> 0 | E8: ='Para rellenar - ExclMUESTREOS'!B8 -> 0 | F8: ='Para rellenar - ExclMUESTREOS'!BA8 -> 0 | G8: ='Para rellenar - ExclMUESTREOS'!F8 -> 0 | H8: ='Para rellenar - ExclMUESTREOS'!BC8 -> 0 | I8: ='Para rellenar - ExclMUESTREOS'!J8 -> 0 | J8: ='Para rellenar - ExclMUESTREOS'!G8 -> 0 | K8: ='Para rellenar - ExclMUESTREOS'!H8 -> 0 | L8: ='Para rellenar - ExclMUESTREOS'!I8 -> 0 | M8: ='Para rellenar - ExclMUESTREOS'!C8 -> 0 | N8: ='Para rellenar - ExclMUESTREOS'!AB8 -> 0 | O8: ='Para rellenar - ExclMUESTREOS'!AC8 -> 0 | R8: ='Para rellenar - ExclMUESTREOS'!AH8 -> 0 | S8: ='Para rellenar - ExclMUESTREOS'!Z8 -> 0 | T8: ='Para rellenar - ExclMUESTREOS'!X8 -> 0 | U8: ='Para rellenar - ExclMUESTREOS'!Y8 -> 0 | V8: ='Para rellenar - ExclMUESTREOS'!W8 -> 0 | W8: ='Para rellenar - ExclMUESTREOS'!O8 -> 0 | X8: ='Para rellenar - ExclMUESTREOS'!AF8 -> 0 | AA8: ='Para rellenar - ExclMUESTREOS'!AA8 -> 0 | AB8: ='Para rellenar - ExclMUESTREOS'!AD8 -> 0 | AC8: ='Para rellenar - ExclMUESTREOS'!Q8 -> 0 | AD8: ='Para rellenar - ExclMUESTREOS'!N8 -> 0 | AE8: ='Para rellenar - ExclMUESTREOS'!T8 -> 0 | AF8: ='Para rellenar - ExclMUESTREOS'!R8 -> 0 | AG8: ='Para rellenar - ExclMUESTREOS'!S8 -> 0 | AH8: ='Para rellenar - ExclMUESTREOS'!U8 -> 0 | AI8: ='Para rellenar - ExclMUESTREOS'!V8 -> 0 | AJ8: ='Para rellenar - ExclMUESTREOS'!P8 -> 0 | AM8: ='Para rellenar - ExclMUESTREOS'!AU8 -> 0 | AN8: ='Para rellenar - ExclMUESTREOS'!AQ8 -> 0 | AO8: ='Para rellenar - ExclMUESTREOS'!AR8 -> 0 | AP8: ='Para rellenar - ExclMUESTREOS'!AS8 -> 0 | AQ8: ='Para rellenar - ExclMUESTREOS'!AT8 -> 0 | AR8: ='Para rellenar - ExclMUESTREOS'!AL8 -> 0 | AS8: ='Para rellenar - ExclMUESTREOS'!AJ8 -> 0 | AT8: ='Para rellenar - ExclMUESTREOS'!AK8 -> 0 | AU8: ='Para rellenar - ExclMUESTREOS'!AW8 -> 0 | AV8: ='Para rellenar - ExclMUESTREOS'!AM8 -> 0 | AW8: ='Para rellenar - ExclMUESTREOS'!AP8 -> 0 | AX8: ='Para rellenar - ExclMUESTREOS'!AV8 -> 0 | BA8: ='Para rellenar - ExclMUESTREOS'!AO8 -> 0 | BB8: ='Para rellenar - ExclMUESTREOS'!AN8 -> 0
A9: ='Para rellenar - ExclMUESTREOS'!A9 -> 0 | B9: ='Para rellenar - ExclMUESTREOS'!D9 -> 0 | C9: ='Para rellenar - ExclMUESTREOS'!E9 -> 0 | D9: ='Para rellenar - ExclMUESTREOS'!L9 -> 0 | E9: ='Para rellenar - ExclMUESTREOS'!B9 -> 0 | F9: ='Para rellenar - ExclMUESTREOS'!BA9 -> 0 | G9: ='Para rellenar - ExclMUESTREOS'!F9 -> 0 | H9: ='Para rellenar - ExclMUESTREOS'!BC9 -> 0 | I9: ='Para rellenar - ExclMUESTREOS'!J9 -> 0 | J9: ='Para rellenar - ExclMUESTREOS'!G9 -> 0 | K9: ='Para rellenar - ExclMUESTREOS'!H9 -> 0 | L9: ='Para rellenar - ExclMUESTREOS'!I9 -> 0 | M9: ='Para rellenar - ExclMUESTREOS'!C9 -> 0 | N9: ='Para rellenar - ExclMUESTREOS'!AB9 -> 0 | O9: ='Para rellenar - ExclMUESTREOS'!AC9 -> 0 | R9: ='Para rellenar - ExclMUESTREOS'!AH9 -> 0 | S9: ='Para rellenar - ExclMUESTREOS'!Z9 -> 0 | T9: ='Para rellenar - ExclMUESTREOS'!X9 -> 0 | U9: ='Para rellenar - ExclMUESTREOS'!Y9 -> 0 | V9: ='Para rellenar - ExclMUESTREOS'!W9 -> 0 | W9: ='Para rellenar - ExclMUESTREOS'!O9 -> 0 | X9: ='Para rellenar - ExclMUESTREOS'!AF9 -> 0 | AA9: ='Para rellenar - ExclMUESTREOS'!AA9 -> 0 | AB9: ='Para rellenar - ExclMUESTREOS'!AD9 -> 0 | AC9: ='Para rellenar - ExclMUESTREOS'!Q9 -> 0 | AD9: ='Para rellenar - ExclMUESTREOS'!N9 -> 0 | AE9: ='Para rellenar - ExclMUESTREOS'!T9 -> 0 | AF9: ='Para rellenar - ExclMUESTREOS'!R9 -> 0 | AG9: ='Para rellenar - ExclMUESTREOS'!S9 -> 0 | AH9: ='Para rellenar - ExclMUESTREOS'!U9 -> 0 | AI9: ='Para rellenar - ExclMUESTREOS'!V9 -> 0 | AJ9: ='Para rellenar - ExclMUESTREOS'!P9 -> 0 | AM9: ='Para rellenar - ExclMUESTREOS'!AU9 -> 0 | AN9: ='Para rellenar - ExclMUESTREOS'!AQ9 -> 0 | AO9: ='Para rellenar - ExclMUESTREOS'!AR9 -> 0 | AP9: ='Para rellenar - ExclMUESTREOS'!AS9 -> 0 | AQ9: ='Para rellenar - ExclMUESTREOS'!AT9 -> 0 | AR9: ='Para rellenar - ExclMUESTREOS'!AL9 -> 0 | AS9: ='Para rellenar - ExclMUESTREOS'!AJ9 -> 0 | AT9: ='Para rellenar - ExclMUESTREOS'!AK9 -> 0 | AU9: ='Para rellenar - ExclMUESTREOS'!AW9 -> 0 | AV9: ='Para rellenar - ExclMUESTREOS'!AM9 -> 0 | AW9: ='Para rellenar - ExclMUESTREOS'!AP9 -> 0 | AX9: ='Para rellenar - ExclMUESTREOS'!AV9 -> 0 | BA9: ='Para rellenar - ExclMUESTREOS'!AO9 -> 0 | BB9: ='Para rellenar - ExclMUESTREOS'!AN9 -> 0
A10: ='Para rellenar - ExclMUESTREOS'!A10 -> 0 | B10: ='Para rellenar - ExclMUESTREOS'!D10 -> 0 | C10: ='Para rellenar - ExclMUESTREOS'!E10 -> 0 | D10: ='Para rellenar - ExclMUESTREOS'!L10 -> 0 | E10: ='Para rellenar - ExclMUESTREOS'!B10 -> 0 | F10: ='Para rellenar - ExclMUESTREOS'!BA10 -> 0 | G10: ='Para rellenar - ExclMUESTREOS'!F10 -> 0 | H10: ='Para rellenar - ExclMUESTREOS'!BC10 -> 0 | I10: ='Para rellenar - ExclMUESTREOS'!J10 -> 0 | J10: ='Para rellenar - ExclMUESTREOS'!G10 -> 0 | K10: ='Para rellenar - ExclMUESTREOS'!H10 -> 0 | L10: ='Para rellenar - ExclMUESTREOS'!I10 -> 0 | M10: ='Para rellenar - ExclMUESTREOS'!C10 -> 0 | N10: ='Para rellenar - ExclMUESTREOS'!AB10 -> 0 | O10: ='Para rellenar - ExclMUESTREOS'!AC10 -> 0 | R10: ='Para rellenar - ExclMUESTREOS'!AH10 -> 0 | S10: ='Para rellenar - ExclMUESTREOS'!Z10 -> 0 | T10: ='Para rellenar - ExclMUESTREOS'!X10 -> 0 | U10: ='Para rellenar - ExclMUESTREOS'!Y10 -> 0 | V10: ='Para rellenar - ExclMUESTREOS'!W10 -> 0 | W10: ='Para rellenar - ExclMUESTREOS'!O10 -> 0 | X10: ='Para rellenar - ExclMUESTREOS'!AF10 -> 0 | AA10: ='Para rellenar - ExclMUESTREOS'!AA10 -> 0 | AB10: ='Para rellenar - ExclMUESTREOS'!AD10 -> 0 | AC10: ='Para rellenar - ExclMUESTREOS'!Q10 -> 0 | AD10: ='Para rellenar - ExclMUESTREOS'!N10 -> 0 | AE10: ='Para rellenar - ExclMUESTREOS'!T10 -> 0 | AF10: ='Para rellenar - ExclMUESTREOS'!R10 -> 0 | AG10: ='Para rellenar - ExclMUESTREOS'!S10 -> 0 | AH10: ='Para rellenar - ExclMUESTREOS'!U10 -> 0 | AI10: ='Para rellenar - ExclMUESTREOS'!V10 -> 0 | AJ10: ='Para rellenar - ExclMUESTREOS'!P10 -> 0 | AM10: ='Para rellenar - ExclMUESTREOS'!AU10 -> 0 | AN10: ='Para rellenar - ExclMUESTREOS'!AQ10 -> 0 | AO10: ='Para rellenar - ExclMUESTREOS'!AR10 -> 0 | AP10: ='Para rellenar - ExclMUESTREOS'!AS10 -> 0 | AQ10: ='Para rellenar - ExclMUESTREOS'!AT10 -> 0 | AR10: ='Para rellenar - ExclMUESTREOS'!AL10 -> 0 | AS10: ='Para rellenar - ExclMUESTREOS'!AJ10 -> 0 | AT10: ='Para rellenar - ExclMUESTREOS'!AK10 -> 0 | AU10: ='Para rellenar - ExclMUESTREOS'!AW10 -> 0 | AV10: ='Para rellenar - ExclMUESTREOS'!AM10 -> 0 | AW10: ='Para rellenar - ExclMUESTREOS'!AP10 -> 0 | AX10: ='Para rellenar - ExclMUESTREOS'!AV10 -> 0 | BA10: ='Para rellenar - ExclMUESTREOS'!AO10 -> 0 | BB10: ='Para rellenar - ExclMUESTREOS'!AN10 -> 0
A11: ='Para rellenar - ExclMUESTREOS'!A11 -> 0 | B11: ='Para rellenar - ExclMUESTREOS'!D11 -> 0 | C11: ='Para rellenar - ExclMUESTREOS'!E11 -> 0 | D11: ='Para rellenar - ExclMUESTREOS'!L11 -> 0 | E11: ='Para rellenar - ExclMUESTREOS'!B11 -> 0 | F11: ='Para rellenar - ExclMUESTREOS'!BA11 -> 0 | G11: ='Para rellenar - ExclMUESTREOS'!F11 -> 0 | H11: ='Para rellenar - ExclMUESTREOS'!BC11 -> 0 | I11: ='Para rellenar - ExclMUESTREOS'!J11 -> 0 | J11: ='Para rellenar - ExclMUESTREOS'!G11 -> 0 | K11: ='Para rellenar - ExclMUESTREOS'!H11 -> 0 | L11: ='Para rellenar - ExclMUESTREOS'!I11 -> 0 | M11: ='Para rellenar - ExclMUESTREOS'!C11 -> 0 | N11: ='Para rellenar - ExclMUESTREOS'!AB11 -> 0 | O11: ='Para rellenar - ExclMUESTREOS'!AC11 -> 0 | R11: ='Para rellenar - ExclMUESTREOS'!AH11 -> 0 | S11: ='Para rellenar - ExclMUESTREOS'!Z11 -> 0 | T11: ='Para rellenar - ExclMUESTREOS'!X11 -> 0 | U11: ='Para rellenar - ExclMUESTREOS'!Y11 -> 0 | V11: ='Para rellenar - ExclMUESTREOS'!W11 -> 0 | W11: ='Para rellenar - ExclMUESTREOS'!O11 -> 0 | X11: ='Para rellenar - ExclMUESTREOS'!AF11 -> 0 | AA11: ='Para rellenar - ExclMUESTREOS'!AA11 -> 0 | AB11: ='Para rellenar - ExclMUESTREOS'!AD11 -> 0 | AC11: ='Para rellenar - ExclMUESTREOS'!Q11 -> 0 | AD11: ='Para rellenar - ExclMUESTREOS'!N11 -> 0 | AE11: ='Para rellenar - ExclMUESTREOS'!T11 -> 0 | AF11: ='Para rellenar - ExclMUESTREOS'!R11 -> 0 | AG11: ='Para rellenar - ExclMUESTREOS'!S11 -> 0 | AH11: ='Para rellenar - ExclMUESTREOS'!U11 -> 0 | AI11: ='Para rellenar - ExclMUESTREOS'!V11 -> 0 | AJ11: ='Para rellenar - ExclMUESTREOS'!P11 -> 0 | AM11: ='Para rellenar - ExclMUESTREOS'!AU11 -> 0 | AN11: ='Para rellenar - ExclMUESTREOS'!AQ11 -> 0 | AO11: ='Para rellenar - ExclMUESTREOS'!AR11 -> 0 | AP11: ='Para rellenar - ExclMUESTREOS'!AS11 -> 0 | AQ11: ='Para rellenar - ExclMUESTREOS'!AT11 -> 0 | AR11: ='Para rellenar - ExclMUESTREOS'!AL11 -> 0 | AS11: ='Para rellenar - ExclMUESTREOS'!AJ11 -> 0 | AT11: ='Para rellenar - ExclMUESTREOS'!AK11 -> 0 | AU11: ='Para rellenar - ExclMUESTREOS'!AW11 -> 0 | AV11: ='Para rellenar - ExclMUESTREOS'!AM11 -> 0 | AW11: ='Para rellenar - ExclMUESTREOS'!AP11 -> 0 | AX11: ='Para rellenar - ExclMUESTREOS'!AV11 -> 0 | BA11: ='Para rellenar - ExclMUESTREOS'!AO11 -> 0 | BB11: ='Para rellenar - ExclMUESTREOS'!AN11 -> 0
A12: ='Para rellenar - ExclMUESTREOS'!A12 -> 0 | B12: ='Para rellenar - ExclMUESTREOS'!D12 -> 0 | C12: ='Para rellenar - ExclMUESTREOS'!E12 -> 0 | D12: ='Para rellenar - ExclMUESTREOS'!L12 -> 0 | E12: ='Para rellenar - ExclMUESTREOS'!B12 -> 0 | F12: ='Para rellenar - ExclMUESTREOS'!BA12 -> 0 | G12: ='Para rellenar - ExclMUESTREOS'!F12 -> 0 | H12: ='Para rellenar - ExclMUESTREOS'!BC12 -> 0 | I12: ='Para rellenar - ExclMUESTREOS'!J12 -> 0 | J12: ='Para rellenar - ExclMUESTREOS'!G12 -> 0 | K12: ='Para rellenar - ExclMUESTREOS'!H12 -> 0 | L12: ='Para rellenar - ExclMUESTREOS'!I12 -> 0 | M12: ='Para rellenar - ExclMUESTREOS'!C12 -> 0 | N12: ='Para rellenar - ExclMUESTREOS'!AB12 -> 0 | O12: ='Para rellenar - ExclMUESTREOS'!AC12 -> 0 | R12: ='Para rellenar - ExclMUESTREOS'!AH12 -> 0 | S12: ='Para rellenar - ExclMUESTREOS'!Z12 -> 0 | T12: ='Para rellenar - ExclMUESTREOS'!X12 -> 0 | U12: ='Para rellenar - ExclMUESTREOS'!Y12 -> 0 | V12: ='Para rellenar - ExclMUESTREOS'!W12 -> 0 | W12: ='Para rellenar - ExclMUESTREOS'!O12 -> 0 | X12: ='Para rellenar - ExclMUESTREOS'!AF12 -> 0 | AA12: ='Para rellenar - ExclMUESTREOS'!AA12 -> 0 | AB12: ='Para rellenar - ExclMUESTREOS'!AD12 -> 0 | AC12: ='Para rellenar - ExclMUESTREOS'!Q12 -> 0 | AD12: ='Para rellenar - ExclMUESTREOS'!N12 -> 0 | AE12: ='Para rellenar - ExclMUESTREOS'!T12 -> 0 | AF12: ='Para rellenar - ExclMUESTREOS'!R12 -> 0 | AG12: ='Para rellenar - ExclMUESTREOS'!S12 -> 0 | AH12: ='Para rellenar - ExclMUESTREOS'!U12 -> 0 | AI12: ='Para rellenar - ExclMUESTREOS'!V12 -> 0 | AJ12: ='Para rellenar - ExclMUESTREOS'!P12 -> 0 | AM12: ='Para rellenar - ExclMUESTREOS'!AU12 -> 0 | AN12: ='Para rellenar - ExclMUESTREOS'!AQ12 -> 0 | AO12: ='Para rellenar - ExclMUESTREOS'!AR12 -> 0 | AP12: ='Para rellenar - ExclMUESTREOS'!AS12 -> 0 | AQ12: ='Para rellenar - ExclMUESTREOS'!AT12 -> 0 | AR12: ='Para rellenar - ExclMUESTREOS'!AL12 -> 0 | AS12: ='Para rellenar - ExclMUESTREOS'!AJ12 -> 0 | AT12: ='Para rellenar - ExclMUESTREOS'!AK12 -> 0 | AU12: ='Para rellenar - ExclMUESTREOS'!AW12 -> 0 | AV12: ='Para rellenar - ExclMUESTREOS'!AM12 -> 0 | AW12: ='Para rellenar - ExclMUESTREOS'!AP12 -> 0 | AX12: ='Para rellenar - ExclMUESTREOS'!AV12 -> 0 | BA12: ='Para rellenar - ExclMUESTREOS'!AO12 -> 0 | BB12: ='Para rellenar - ExclMUESTREOS'!AN12 -> 0
A13: ='Para rellenar - ExclMUESTREOS'!A13 -> 0 | B13: ='Para rellenar - ExclMUESTREOS'!D13 -> 0 | C13: ='Para rellenar - ExclMUESTREOS'!E13 -> 0 | D13: ='Para rellenar - ExclMUESTREOS'!L13 -> 0 | E13: ='Para rellenar - ExclMUESTREOS'!B13 -> 0 | F13: ='Para rellenar - ExclMUESTREOS'!BA13 -> 0 | G13: ='Para rellenar - ExclMUESTREOS'!F13 -> 0 | H13: ='Para rellenar - ExclMUESTREOS'!BC13 -> 0 | I13: ='Para rellenar - ExclMUESTREOS'!J13 -> 0 | J13: ='Para rellenar - ExclMUESTREOS'!G13 -> 0 | K13: ='Para rellenar - ExclMUESTREOS'!H13 -> 0 | L13: ='Para rellenar - ExclMUESTREOS'!I13 -> 0 | M13: ='Para rellenar - ExclMUESTREOS'!C13 -> 0 | N13: ='Para rellenar - ExclMUESTREOS'!AB13 -> 0 | O13: ='Para rellenar - ExclMUESTREOS'!AC13 -> 0 | R13: ='Para rellenar - ExclMUESTREOS'!AH13 -> 0 | S13: ='Para rellenar - ExclMUESTREOS'!Z13 -> 0 | T13: ='Para rellenar - ExclMUESTREOS'!X13 -> 0 | U13: ='Para rellenar - ExclMUESTREOS'!Y13 -> 0 | V13: ='Para rellenar - ExclMUESTREOS'!W13 -> 0 | W13: ='Para rellenar - ExclMUESTREOS'!O13 -> 0 | X13: ='Para rellenar - ExclMUESTREOS'!AF13 -> 0 | AA13: ='Para rellenar - ExclMUESTREOS'!AA13 -> 0 | AB13: ='Para rellenar - ExclMUESTREOS'!AD13 -> 0 | AC13: ='Para rellenar - ExclMUESTREOS'!Q13 -> 0 | AD13: ='Para rellenar - ExclMUESTREOS'!N13 -> 0 | AE13: ='Para rellenar - ExclMUESTREOS'!T13 -> 0 | AF13: ='Para rellenar - ExclMUESTREOS'!R13 -> 0 | AG13: ='Para rellenar - ExclMUESTREOS'!S13 -> 0 | AH13: ='Para rellenar - ExclMUESTREOS'!U13 -> 0 | AI13: ='Para rellenar - ExclMUESTREOS'!V13 -> 0 | AJ13: ='Para rellenar - ExclMUESTREOS'!P13 -> 0 | AM13: ='Para rellenar - ExclMUESTREOS'!AU13 -> 0 | AN13: ='Para rellenar - ExclMUESTREOS'!AQ13 -> 0 | AO13: ='Para rellenar - ExclMUESTREOS'!AR13 -> 0 | AP13: ='Para rellenar - ExclMUESTREOS'!AS13 -> 0 | AQ13: ='Para rellenar - ExclMUESTREOS'!AT13 -> 0 | AR13: ='Para rellenar - ExclMUESTREOS'!AL13 -> 0 | AS13: ='Para rellenar - ExclMUESTREOS'!AJ13 -> 0 | AT13: ='Para rellenar - ExclMUESTREOS'!AK13 -> 0 | AU13: ='Para rellenar - ExclMUESTREOS'!AW13 -> 0 | AV13: ='Para rellenar - ExclMUESTREOS'!AM13 -> 0 | AW13: ='Para rellenar - ExclMUESTREOS'!AP13 -> 0 | AX13: ='Para rellenar - ExclMUESTREOS'!AV13 -> 0 | BA13: ='Para rellenar - ExclMUESTREOS'!AO13 -> 0 | BB13: ='Para rellenar - ExclMUESTREOS'!AN13 -> 0
... A1897: ='Para rellenar - ExclMUESTREOS'!A1897 -> 0 | B1897: ='Para rellenar - ExclMUESTREOS'!D1897 -> 0 | C1897: ='Para rellenar - ExclMUESTREOS'!E1897 -> 0 | D1897: ='Para rellenar - ExclMUESTREOS'!L1897 -> 0 | E1897: ='Para rellenar - ExclMUESTREOS'!B1897 -> 0 | F1897: ='Para rellenar - ExclMUESTREOS'!BA1897 -> 0 | G1897: ='Para rellenar - ExclMUESTREOS'!F1897 -> 0 | H1897: ='Para rellenar - ExclMUESTREOS'!BC1897 -> 0 | I1897: ='Para rellenar - ExclMUESTREOS'!J1897 -> 0 | J1897: ='Para rellenar - ExclMUESTREOS'!G1897 -> 0 | K1897: ='Para rellenar - ExclMUESTREOS'!H1897 -> 0 | L1897: ='Para rellenar - ExclMUESTREOS'!I1897 -> 0 | M1897: ='Para rellenar - ExclMUESTREOS'!C1897 -> 0 | N1897: ='Para rellenar - ExclMUESTREOS'!AB1897 -> 0 | O1897: ='Para rellenar - ExclMUESTREOS'!AC1897 -> 0 | R1897: ='Para rellenar - ExclMUESTREOS'!AH1897 -> 0 | S1897: ='Para rellenar - ExclMUESTREOS'!Z1897 -> 0 | T1897: ='Para rellenar - ExclMUESTREOS'!X1897 -> 0 | U1897: ='Para rellenar - ExclMUESTREOS'!Y1897 -> 0 | V1897: ='Para rellenar - ExclMUESTREOS'!W1897 -> 0 | W1897: ='Para rellenar - ExclMUESTREOS'!O1897 -> 0 | X1897: ='Para rellenar - ExclMUESTREOS'!AF1897 -> 0 | AA1897: ='Para rellenar - ExclMUESTREOS'!AA1897 -> 0 | AB1897: ='Para rellenar - ExclMUESTREOS'!AD1897 -> 0 | AC1897: ='Para rellenar - ExclMUESTREOS'!Q1897 -> 0 | AD1897: ='Para rellenar - ExclMUESTREOS'!N1897 -> 0 | AE1897: ='Para rellenar - ExclMUESTREOS'!T1897 -> 0 | AF1897: ='Para rellenar - ExclMUESTREOS'!R1897 -> 0 | AG1897: ='Para rellenar - ExclMUESTREOS'!S1897 -> 0 | AH1897: ='Para rellenar - ExclMUESTREOS'!U1897 -> 0 | AI1897: ='Para rellenar - ExclMUESTREOS'!V1897 -> 0 | AJ1897: ='Para rellenar - ExclMUESTREOS'!P1897 -> 0 | AM1897: ='Para rellenar - ExclMUESTREOS'!AU1897 -> 0 | AN1897: ='Para rellenar - ExclMUESTREOS'!AQ1897 -> 0 | AO1897: ='Para rellenar - ExclMUESTREOS'!AR1897 -> 0 | AP1897: ='Para rellenar - ExclMUESTREOS'!AS1897 -> 0 | AQ1897: ='Para rellenar - ExclMUESTREOS'!AT1897 -> 0 | AR1897: ='Para rellenar - ExclMUESTREOS'!AL1897 -> 0 | AS1897: ='Para rellenar - ExclMUESTREOS'!AJ1897 -> 0 | AT1897: ='Para rellenar - ExclMUESTREOS'!AK1897 -> 0 | AU1897: ='Para rellenar - ExclMUESTREOS'!AW1897 -> 0 | AV1897: ='Para rellenar - ExclMUESTREOS'!AM1897 -> 0 | AW1897: ='Para rellenar - ExclMUESTREOS'!AP1897 -> 0 | AX1897: ='Para rellenar - ExclMUESTREOS'!AV1897 -> 0 | BA1897: ='Para rellenar - ExclMUESTREOS'!AO1897 -> 0 | BB1897: ='Para rellenar - ExclMUESTREOS'!AN1897 -> 0
